BEGIN:VCALENDAR
PRODID:-//AT Content Types//AT Event//EN
VERSION:2.0
METHOD:PUBLISH
BEGIN:VEVENT
DTSTAMP:20260424T104448Z
CREATED:20220601T082500Z
UID:ATEvent-b2a372cf6c0949cc952cb4b20c1213c4
LAST-MODIFIED:20220602T101544Z
SUMMARY:Visita canonica en el Vicariato de Tailandia y Vietnam
DTSTART:20220603T070000Z
DTEND:20220630T160000Z
LOCATION:Tailandia y Vietnam
CLASS:PUBLIC
END:VEVENT
END:VCALENDAR
