BEGIN:VCALENDAR
PRODID:-//AT Content Types//AT Event//EN
VERSION:2.0
METHOD:PUBLISH
BEGIN:VEVENT
DTSTAMP:20260426T032402Z
CREATED:20160330T141748Z
UID:ATEvent-aabd91137f874bdf9a4f0212ca89146d
LAST-MODIFIED:20160511T134912Z
SUMMARY:Visita canónica del Superior General en el Vicariato de Italia
DTSTART:20160411T070000Z
DTEND:20160510T150000Z
CLASS:PUBLIC
END:VEVENT
END:VCALENDAR
