BEGIN:VCALENDAR
PRODID:-//AT Content Types//AT Event//EN
VERSION:2.0
METHOD:PUBLISH
BEGIN:VEVENT
DTSTAMP:20260421T182114Z
CREATED:20200827T142836Z
UID:ATEvent-69d3b68d6de4420480bd0a26c16093d6
LAST-MODIFIED:20200827T143213Z
SUMMARY:Visita canonica del Superior General en el Vicariato de Costa de Marfil
DTSTART:20200905T070000Z
DTEND:20200926T140000Z
LOCATION:Vicariato de Costa de Marfil
CLASS:PUBLIC
END:VEVENT
END:VCALENDAR
