BEGIN:VCALENDAR
PRODID:-//AT Content Types//AT Event//EN
VERSION:1.0
BEGIN:VEVENT
DTSTART:20200202T080000Z
DTEND:20200211T160000Z
DCREATED:20200207T154018Z
UID:ATEvent-4d5de0cbf26e4d7bab37d811d6b9a207
SEQUENCE:0
LAST-MODIFIED:20200207T154402Z
SUMMARY:Visita canónica del Superior General al Vicariato de Tierra Santa
LOCATION:Tierra Santa
PRIORITY:3
TRANSP:0
END:VEVENT
END:VCALENDAR
