BEGIN:VCALENDAR
PRODID:-//AT Content Types//AT Event//EN
VERSION:2.0
METHOD:PUBLISH
BEGIN:VEVENT
DTSTAMP:20260425T002141Z
CREATED:20181227T113323Z
UID:ATEvent-d05d0817111c463fa4c7c1648411bb4d
LAST-MODIFIED:20240829T074658Z
SUMMARY:Visita canónica del Superior General al Vicariato de Italia
DTSTART:20240930T070000Z
DTEND:20241021T140000Z
LOCATION:Italia
CLASS:PUBLIC
END:VEVENT
END:VCALENDAR
