BEGIN:VCALENDAR
PRODID:-//AT Content Types//AT Event//EN
VERSION:2.0
METHOD:PUBLISH
BEGIN:VEVENT
DTSTAMP:20260426T032410Z
CREATED:20191004T121225Z
UID:ATEvent-65421d99f3d14243aa1031d5e659aa5a
LAST-MODIFIED:20240327T075813Z
SUMMARY:Visita canónica del Superior General al Vicariato de Paraguay
DTSTART:20240426T070000Z
DTEND:20240518T190000Z
LOCATION:Paraguay
CLASS:PUBLIC
END:VEVENT
END:VCALENDAR
