BEGIN:VCALENDAR
PRODID:-//AT Content Types//AT Event//EN
VERSION:1.0
BEGIN:VEVENT
DTSTART:20250401T070000Z
DTEND:20250415T150000Z
DCREATED:20181227T112824Z
UID:ATEvent-3023d75362034039a2d7015ca9dfd04c
SEQUENCE:0
LAST-MODIFIED:20250314T194335Z
SUMMARY:Visita canónica del Superior General al Vicariato de Inglaterra
LOCATION:Inglaterra
PRIORITY:3
TRANSP:0
END:VEVENT
END:VCALENDAR
