BEGIN:VCALENDAR
PRODID:-//AT Content Types//AT Event//EN
VERSION:2.0
METHOD:PUBLISH
BEGIN:VEVENT
DTSTAMP:20260425T114430Z
CREATED:20190403T071749Z
UID:ATEvent-c850ab6fe4764b158a11d2dbdfc6023e
LAST-MODIFIED:20240527T123742Z
SUMMARY:Visita canónica del Superior General en el Vicariato de Francia y España
DTSTART:20240617T070000Z
DTEND:20240730T160000Z
LOCATION:Francia
CLASS:PUBLIC
END:VEVENT
END:VCALENDAR
