BEGIN:VCALENDAR
PRODID:-//AT Content Types//AT Event//EN
VERSION:2.0
METHOD:PUBLISH
BEGIN:VEVENT
DTSTAMP:20260422T104359Z
CREATED:20200216T065420Z
UID:ATEvent-d139f90a2e0a46b693f5eae4d3625586
LAST-MODIFIED:20200216T065721Z
SUMMARY:Visita canónica al Vicariato de Italia
DTSTART:20200305T080000Z
DTEND:20200313T170000Z
CLASS:PUBLIC
END:VEVENT
END:VCALENDAR
