BEGIN:VCALENDAR
PRODID:-//AT Content Types//AT Event//EN
VERSION:1.0
BEGIN:VEVENT
DTSTART:20180410T070000Z
DTEND:20180425T140000Z
DCREATED:20180216T142123Z
UID:ATEvent-f815c5128d22429d9ab13b01ac141d06
SEQUENCE:0
LAST-MODIFIED:20180216T142830Z
SUMMARY:Vicariato de África Central - Visita canónica del Superior general
LOCATION:RCA
PRIORITY:3
TRANSP:0
END:VEVENT
END:VCALENDAR
