BEGIN:VCALENDAR
PRODID:-//AT Content Types//AT Event//EN
VERSION:2.0
METHOD:PUBLISH
BEGIN:VEVENT
DTSTAMP:20260425T022841Z
CREATED:20160505T074440Z
UID:ATEvent-5ef8ccbb51294e31a3a86c7d07e6bdc1
LAST-MODIFIED:20160505T075238Z
SUMMARY:Solemnidad de San Miguel Garicoits en Betharram
DTSTART:20160513T133000Z
DTEND:20160513T200000Z
LOCATION:Betharram
CLASS:PUBLIC
END:VEVENT
END:VCALENDAR
