BEGIN:VCALENDAR
PRODID:-//AT Content Types//AT Event//EN
VERSION:1.0
BEGIN:VEVENT
DTSTART:20160514T070000Z
DTEND:20160514T163000Z
DCREATED:20160505T075708Z
UID:ATEvent-5fa07d6611fe4056be3e51999b9e78af
SEQUENCE:0
LAST-MODIFIED:20160505T080413Z
SUMMARY:Solemnidad de San Miguel Garicoits en Betharram-2
LOCATION:Betharram
PRIORITY:3
TRANSP:0
END:VEVENT
END:VCALENDAR
