BEGIN:VCALENDAR
PRODID:-//AT Content Types//AT Event//EN
VERSION:2.0
METHOD:PUBLISH
BEGIN:VEVENT
DTSTAMP:20260425T035856Z
CREATED:20200717T065445Z
UID:ATEvent-2a4507d6b30044fcac58b633b2d6bed4
LAST-MODIFIED:20200717T070934Z
SUMMARY:Solemnidad de N. S. de Betharram y profesión perpetua del Hno. Landry
DTSTART:20200728T070000Z
DTEND:20200728T150000Z
LOCATION:Betharram
CLASS:PUBLIC
END:VEVENT
END:VCALENDAR
