BEGIN:VCALENDAR
PRODID:-//AT Content Types//AT Event//EN
VERSION:1.0
BEGIN:VEVENT
DTSTART:20160514T093000Z
DTEND:20160514T110000Z
DCREATED:20160502T081156Z
UID:ATEvent-7e03b97b5a34497ca262bf3b3d7ada4d
SEQUENCE:0
LAST-MODIFIED:20160502T082329Z
SUMMARY:Solemne celebración en la fiesta de San Miguel Garicoits
LOCATION:Capilla de Nuestra Señora de Betharram\, Shobhaa Shaakha - Bangalore (India)
PRIORITY:3
TRANSP:0
END:VEVENT
END:VCALENDAR
