BEGIN:VCALENDAR
PRODID:-//AT Content Types//AT Event//EN
VERSION:2.0
METHOD:PUBLISH
BEGIN:VEVENT
DTSTAMP:20260425T024718Z
CREATED:20240527T124840Z
UID:ATEvent-0a3c8ea0e8c449dcb0a6c963b94ad2e3
LAST-MODIFIED:20240527T125110Z
SUMMARY:Sesión internacional de formación para los formadores
DTSTART:20240701T070000Z
DTEND:20240707T150000Z
LOCATION:Betharram
CLASS:PUBLIC
END:VEVENT
END:VCALENDAR
