BEGIN:VCALENDAR
PRODID:-//AT Content Types//AT Event//EN
VERSION:2.0
METHOD:PUBLISH
BEGIN:VEVENT
DTSTAMP:20260421T221148Z
CREATED:20200902T153552Z
UID:ATEvent-6367e93ca31849cb8dd0d81bda7e7a5a
LAST-MODIFIED:20200902T154459Z
SUMMARY:Profesión perpetua en Costa de Marfil
DTSTART:20200912T073000Z
DTEND:20200912T093000Z
LOCATION:Adiapodoumé (Costa de Marfil)
CLASS:PUBLIC
END:VEVENT
END:VCALENDAR
