BEGIN:VCALENDAR
PRODID:-//AT Content Types//AT Event//EN
VERSION:2.0
METHOD:PUBLISH
BEGIN:VEVENT
DTSTAMP:20260426T005448Z
CREATED:20220503T130726Z
UID:ATEvent-ba5d9a9786094e93838a215bf668f3c0
LAST-MODIFIED:20230117T092958Z
SUMMARY:Profesión perpetua del Hno. Weeraphong John Youhae scj
DTSTART:20230127T093000Z
DTEND:20230127T113000Z
LOCATION:Tailandia - Chiang Mai
CLASS:PUBLIC
END:VEVENT
END:VCALENDAR
