BEGIN:VCALENDAR
PRODID:-//AT Content Types//AT Event//EN
VERSION:2.0
METHOD:PUBLISH
BEGIN:VEVENT
DTSTAMP:20260421T051022Z
CREATED:20171220T152319Z
UID:ATEvent-81a30464ff5c4b18bfb8c401649de1de
LAST-MODIFIED:20171220T154136Z
SUMMARY:Profesión perpetua
DTSTART:20180112T160000Z
DTEND:20180112T180000Z
LOCATION:Ban Betharram Chiang Mai Chapel\, Chiang Mai (Thailand)
CLASS:PUBLIC
END:VEVENT
END:VCALENDAR
