BEGIN:VCALENDAR
PRODID:-//AT Content Types//AT Event//EN
VERSION:1.0
BEGIN:VEVENT
DTSTART:20170319T090000Z
DTEND:20170319T110000Z
DCREATED:20170318T164300Z
UID:ATEvent-b8e71346e0f640a5abf514cc346776b1
SEQUENCE:0
LAST-MODIFIED:20170318T164811Z
SUMMARY:Profesión perpetua
LOCATION:Passa Quatro (Brasil)
PRIORITY:3
TRANSP:0
END:VEVENT
END:VCALENDAR
