BEGIN:VCALENDAR
PRODID:-//AT Content Types//AT Event//EN
VERSION:1.0
BEGIN:VEVENT
DTSTART:20170815T070500Z
DTEND:20170818T120000Z
DCREATED:20170816T070450Z
UID:ATEvent-986728bc088c4f3e9997fd34d270039d
SEQUENCE:0
LAST-MODIFIED:20170816T071152Z
SUMMARY:Primer Consejo Regional de la Region Ven. P. Augusto Etchecopar
LOCATION:Lambaré (Paraguay)
PRIORITY:3
TRANSP:0
END:VEVENT
END:VCALENDAR
