BEGIN:VCALENDAR
PRODID:-//AT Content Types//AT Event//EN
VERSION:1.0
BEGIN:VEVENT
DTSTART:20160515T070000Z
DTEND:20160515T150000Z
DCREATED:20160506T125401Z
UID:ATEvent-4f257ba7b9e84f769d00c3c82209873d
SEQUENCE:0
LAST-MODIFIED:20160506T131851Z
SUMMARY:Pentecostés con San Miguel Garicoits
LOCATION:Ibarre
PRIORITY:3
TRANSP:0
END:VEVENT
END:VCALENDAR
