BEGIN:VCALENDAR
PRODID:-//AT Content Types//AT Event//EN
VERSION:2.0
METHOD:PUBLISH
BEGIN:VEVENT
DTSTAMP:20260425T035956Z
CREATED:20170526T191656Z
UID:ATEvent-5c9ef3d765a548588c3c673f730934f8
LAST-MODIFIED:20170526T191945Z
SUMMARY:Ordinación sacerdotal del Hno. Vipin Joseph Chirammel scj
DTSTART:20170529T083000Z
DTEND:20170529T103000Z
LOCATION:St. Anthony's Forane Church & St. Joseph's Miraculous Shrine - Kannamaly\, Cochin (India)
CLASS:PUBLIC
END:VEVENT
END:VCALENDAR
