BEGIN:VCALENDAR
PRODID:-//AT Content Types//AT Event//EN
VERSION:2.0
METHOD:PUBLISH
BEGIN:VEVENT
DTSTAMP:20260420T105504Z
CREATED:20170526T190529Z
UID:ATEvent-335bc9cacc6647fa93a3299d2d6b91e1
LAST-MODIFIED:20170526T191318Z
SUMMARY:Ordinación sacerdotal del Hno. Michael Bistis scj
DTSTART:20170527T160000Z
DTEND:20170527T190000Z
LOCATION:Iglesia de N. S. de Lourdes - Idindakarai (India)
CLASS:PUBLIC
END:VEVENT
END:VCALENDAR
