BEGIN:VCALENDAR
PRODID:-//AT Content Types//AT Event//EN
VERSION:2.0
METHOD:PUBLISH
BEGIN:VEVENT
DTSTAMP:20260425T020718Z
CREATED:20161206T142522Z
UID:ATEvent-f423661107d24a21bd06818cd9805ef8
LAST-MODIFIED:20161206T144104Z
SUMMARY:El Hno. Juan Pablo García Martínez ordenado presbitero
DTSTART:20161208T180000Z
DTEND:20161208T200000Z
CLASS:PUBLIC
END:VEVENT
END:VCALENDAR
