BEGIN:VCALENDAR
PRODID:-//AT Content Types//AT Event//EN
VERSION:2.0
METHOD:PUBLISH
BEGIN:VEVENT
DTSTAMP:20260425T002137Z
CREATED:20160502T083339Z
UID:ATEvent-3bc53fcbf59e486d9ee39d2dda35a672
LAST-MODIFIED:20160502T083928Z
SUMMARY:Ordenaciones diaconales en la India
DTSTART:20160516T060000Z
DTEND:20160516T083000Z
CLASS:PUBLIC
END:VEVENT
END:VCALENDAR
