BEGIN:VCALENDAR
PRODID:-//AT Content Types//AT Event//EN
VERSION:1.0
BEGIN:VEVENT
DTSTART:20230122T080000Z
DTEND:20230122T140000Z
DCREATED:20190706T073858Z
UID:ATEvent-e62cfbc198144f5e80994ba68f074fd3
SEQUENCE:0
LAST-MODIFIED:20230122T110749Z
SUMMARY:Ordenación al diaconado
LOCATION:Betharram
PRIORITY:3
TRANSP:0
END:VEVENT
END:VCALENDAR
