BEGIN:VCALENDAR
PRODID:-//AT Content Types//AT Event//EN
VERSION:2.0
METHOD:PUBLISH
BEGIN:VEVENT
DTSTAMP:20260424T224613Z
CREATED:20171110T114545Z
UID:ATEvent-23ddb0b340a94e4abe19572c35061b08
LAST-MODIFIED:20171110T114942Z
SUMMARY:Ordenación sacerdotale
DTSTART:20171216T090000Z
DTEND:20171216T110000Z
LOCATION:Carmo de Minas
CLASS:PUBLIC
END:VEVENT
END:VCALENDAR
