BEGIN:VCALENDAR
PRODID:-//AT Content Types//AT Event//EN
VERSION:2.0
METHOD:PUBLISH
BEGIN:VEVENT
DTSTAMP:20260425T232737Z
CREATED:20190914T070942Z
UID:ATEvent-9e6f326f316a449d976a610bf9057186
LAST-MODIFIED:20190914T071836Z
SUMMARY:Ordenación sacerdotal en Argentina.
DTSTART:20190921T170000Z
DTEND:20190921T190000Z
LOCATION:Barracas (Argentina)
CLASS:PUBLIC
END:VEVENT
END:VCALENDAR
