BEGIN:VCALENDAR
PRODID:-//AT Content Types//AT Event//EN
VERSION:1.0
BEGIN:VEVENT
DTSTART:20170314T145000Z
DTEND:20170314T145000Z
DCREATED:20170314T162143Z
UID:ATEvent-ff5ff105fbd044be88112d1a3a2fb3ee
SEQUENCE:0
LAST-MODIFIED:20170314T162911Z
SUMMARY:Ordenación sacerdotal del Hno. Riveros Díaz Alcides Ramón scj
LOCATION:La Colmena
PRIORITY:3
TRANSP:0
END:VEVENT
END:VCALENDAR
