BEGIN:VCALENDAR
PRODID:-//AT Content Types//AT Event//EN
VERSION:2.0
METHOD:PUBLISH
BEGIN:VEVENT
DTSTAMP:20260425T023236Z
CREATED:20170530T102438Z
UID:ATEvent-d808760f6a6c4270b6de78b62e3ecaf6
LAST-MODIFIED:20170530T103019Z
SUMMARY:Ordenación sacerdotal del Hno. Edwin Jose Manavalan scj
DTSTART:20170530T073000Z
DTEND:20170530T173000Z
LOCATION:St. Joseph Church\, Kottamam (India)
CLASS:PUBLIC
END:VEVENT
END:VCALENDAR
