BEGIN:VCALENDAR
PRODID:-//AT Content Types//AT Event//EN
VERSION:1.0
BEGIN:VEVENT
DTSTART:20170617T050000Z
DTEND:20170617T100000Z
DCREATED:20170610T155812Z
UID:ATEvent-a25015d1aaac463ea25498b9dbfacc89
SEQUENCE:0
LAST-MODIFIED:20170610T160202Z
SUMMARY:Ordenación sacerdotal del Diacono Marie-Paulin Yarkaï scj
LOCATION:Catedral de Bouar (República Centroafricana)
PRIORITY:3
TRANSP:0
END:VEVENT
END:VCALENDAR
