BEGIN:VCALENDAR
PRODID:-//AT Content Types//AT Event//EN
VERSION:2.0
METHOD:PUBLISH
BEGIN:VEVENT
DTSTAMP:20260420T105153Z
CREATED:20250103T080148Z
UID:ATEvent-c8301129f5bf4911a0b2c17e0c20acd4
LAST-MODIFIED:20250103T081240Z
SUMMARY:Ordenación diaconal
DTSTART:20250103T090000Z
DTEND:20250103T140000Z
LOCATION:The Holy Family Catholic Church\, Huay Bong
CLASS:PUBLIC
END:VEVENT
END:VCALENDAR
