BEGIN:VCALENDAR
PRODID:-//AT Content Types//AT Event//EN
VERSION:2.0
METHOD:PUBLISH
BEGIN:VEVENT
DTSTAMP:20260425T022840Z
CREATED:20170620T143401Z
UID:ATEvent-c05726b9b78a448ab0e74d5b14df610b
LAST-MODIFIED:20170620T144221Z
SUMMARY:Ordenación diaconal en Chiang Mai
DTSTART:20170624T080000Z
DTEND:20170624T100000Z
LOCATION:Catedral del Sagrado Corazón de Jesús - Chiang Mai (Tailandia)
CLASS:PUBLIC
END:VEVENT
END:VCALENDAR
