BEGIN:VCALENDAR
PRODID:-//AT Content Types//AT Event//EN
VERSION:2.0
METHOD:PUBLISH
BEGIN:VEVENT
DTSTAMP:20260422T104433Z
CREATED:20201215T110136Z
UID:ATEvent-d34623cc034e4f87b477b1ed152c1843
LAST-MODIFIED:20250731T065444Z
SUMMARY:Ordenación diaconal del Hno. Anselm Prapas Chiwakitmankong  y del Hno. Peter Do Van Hung
DTSTART:20210809T070000Z
DTEND:20210809T150000Z
LOCATION:Lux Mundi Seminary\, Bangkok (Tailandia)
CLASS:PUBLIC
END:VEVENT
END:VCALENDAR
