BEGIN:VCALENDAR
PRODID:-//AT Content Types//AT Event//EN
VERSION:2.0
METHOD:PUBLISH
BEGIN:VEVENT
DTSTAMP:20260425T023356Z
CREATED:20170608T120500Z
UID:ATEvent-5ccc8e7a04c7471ba335c62320a0ad77
LAST-MODIFIED:20170608T120833Z
SUMMARY:Ordenación diaconal del Hno. Jeferson Silvério Gonzaga scj
DTSTART:20170617T140000Z
DTEND:20170617T183000Z
LOCATION:Parroquia de Setubinha (Brasil)
CLASS:PUBLIC
END:VEVENT
END:VCALENDAR
