BEGIN:VCALENDAR
PRODID:-//AT Content Types//AT Event//EN
VERSION:2.0
METHOD:PUBLISH
BEGIN:VEVENT
DTSTAMP:20260426T032400Z
CREATED:20201215T080008Z
UID:ATEvent-08d6a58a26c347448cf705cc006a504d
LAST-MODIFIED:20201215T093756Z
SUMMARY:Ordenación diaconal del Hno. Appaouh Serge Pacôme
DTSTART:20201227T103000Z
DTEND:20201227T113000Z
LOCATION:Parroquia San Francisco de Asís - Pistoia
CLASS:PUBLIC
END:VEVENT
END:VCALENDAR
