BEGIN:VCALENDAR
PRODID:-//AT Content Types//AT Event//EN
VERSION:2.0
METHOD:PUBLISH
BEGIN:VEVENT
DTSTAMP:20260425T020715Z
CREATED:20170429T220335Z
UID:ATEvent-ecfb9cec0e074c9b92d976866b046a73
LAST-MODIFIED:20170429T221001Z
SUMMARY:Fiesta en el Vicariato de la India
DTSTART:20170501T070000Z
DTEND:20170501T110000Z
LOCATION:Capilla de N. S. de Betharram\, Seminario de Shobhana Shaakha\, Bangalore.
CLASS:PUBLIC
END:VEVENT
END:VCALENDAR
