BEGIN:VCALENDAR
PRODID:-//AT Content Types//AT Event//EN
VERSION:2.0
METHOD:PUBLISH
BEGIN:VEVENT
DTSTAMP:20260425T002159Z
CREATED:20210125T085323Z
UID:ATEvent-42d9a63b56124be08e5a9b1ba43ebece
LAST-MODIFIED:20210125T085740Z
SUMMARY:Encuentro del Servicio de Formación Betharramita
DTSTART:20210209T110000Z
DTEND:20210212T150000Z
LOCATION:Videoconferencia - plataforma ZOOM
CLASS:PUBLIC
END:VEVENT
END:VCALENDAR
