BEGIN:VCALENDAR
PRODID:-//AT Content Types//AT Event//EN
VERSION:2.0
METHOD:PUBLISH
BEGIN:VEVENT
DTSTAMP:20260425T002152Z
CREATED:20181105T092014Z
UID:ATEvent-8888f2d041954aa9b10fd6c1b218a766
LAST-MODIFIED:20181105T092340Z
SUMMARY:Encuentro de los ecónomos regionales
DTSTART:20181112T073000Z
DTEND:20181114T171500Z
LOCATION:Roma - Casa General
CLASS:PUBLIC
END:VEVENT
END:VCALENDAR
