BEGIN:VCALENDAR
PRODID:-//AT Content Types//AT Event//EN
VERSION:2.0
METHOD:PUBLISH
BEGIN:VEVENT
DTSTAMP:20260425T215634Z
CREATED:20191202T070905Z
UID:ATEvent-9f35457b22104e75a4eecf2f2b05831d
LAST-MODIFIED:20191202T071731Z
SUMMARY:Encuentro de los ecónomos de las comunidades del Vicariato de Tailandia
DTSTART:20191202T080000Z
DTEND:20191203T160000Z
LOCATION:Chiang Mai - Tailandia
CLASS:PUBLIC
END:VEVENT
END:VCALENDAR
