BEGIN:VCALENDAR
PRODID:-//AT Content Types//AT Event//EN
VERSION:2.0
METHOD:PUBLISH
BEGIN:VEVENT
DTSTAMP:20260421T213825Z
CREATED:20190513T095619Z
UID:ATEvent-eddca3b70f5847c69195aa8c82742b45
LAST-MODIFIED:20190513T100921Z
SUMMARY:El camino de San Miguel
DTSTART:20190805T070000Z
DTEND:20190812T170000Z
DESCRIPTION:Los jóvenes italianos al descubrimiento de los lugares de
  vida de San Miguel Garicoits.
LOCATION:Betharram - Ibarre
CLASS:PUBLIC
END:VEVENT
END:VCALENDAR
