BEGIN:VCALENDAR
PRODID:-//AT Content Types//AT Event//EN
VERSION:1.0
BEGIN:VEVENT
DTSTART:20200711T070000Z
DTEND:20200711T100000Z
DCREATED:20200702T145003Z
UID:ATEvent-777ecf3f602f4ecba84a16a90c952c64
SEQUENCE:0
LAST-MODIFIED:20200702T145754Z
SUMMARY:Día de festa en el Vicariato de Costa de Marfil
LOCATION:Yopougon (Costa de Marfil)
PRIORITY:3
TRANSP:0
END:VEVENT
END:VCALENDAR
