BEGIN:VCALENDAR
PRODID:-//AT Content Types//AT Event//EN
VERSION:2.0
METHOD:PUBLISH
BEGIN:VEVENT
DTSTAMP:20260425T023356Z
CREATED:20190720T070853Z
UID:ATEvent-d2aedfcecdc44fe397a6583ba810835a
LAST-MODIFIED:20190720T071308Z
SUMMARY:Consejo Regional de la Región Santa Maria di Jesús Crucificado
DTSTART:20190827T070000Z
DTEND:20190831T150000Z
LOCATION:Shobhana Shaakha (Bangalore\, India)
CLASS:PUBLIC
END:VEVENT
END:VCALENDAR
