BEGIN:VCALENDAR
PRODID:-//AT Content Types//AT Event//EN
VERSION:1.0
BEGIN:VEVENT
DTSTART:20170911T120000Z
DTEND:20170916T160000Z
DCREATED:20170906T154729Z
UID:ATEvent-f86a04844fa349b4b3fa3fb6f25aa8f3
SEQUENCE:0
LAST-MODIFIED:20170906T155145Z
SUMMARY:Consejo Regional de la Región Santa Maria de Jesús Crucificado
LOCATION:Bangalore
PRIORITY:3
TRANSP:0
END:VEVENT
END:VCALENDAR
