BEGIN:VCALENDAR
PRODID:-//AT Content Types//AT Event//EN
VERSION:2.0
METHOD:PUBLISH
BEGIN:VEVENT
DTSTAMP:20260425T132851Z
CREATED:20190720T071844Z
UID:ATEvent-2988436df12f4b638a1d7e1822403a3d
LAST-MODIFIED:20190720T072144Z
SUMMARY:Consejo Regional de la Región San Miguel Garicoits
DTSTART:20200206T080000Z
DTEND:20200208T160000Z
LOCATION:Belén
CLASS:PUBLIC
END:VEVENT
END:VCALENDAR
