BEGIN:VCALENDAR
PRODID:-//AT Content Types//AT Event//EN
VERSION:2.0
METHOD:PUBLISH
BEGIN:VEVENT
DTSTAMP:20260426T032404Z
CREATED:20190720T071502Z
UID:ATEvent-63f2e030ff154d8281da4ec0a2a67209
LAST-MODIFIED:20190720T071739Z
SUMMARY:Consejo Regional de la Región San Miguel Garicoits
DTSTART:20191022T070000Z
DTEND:20191025T150000Z
LOCATION:Betharram
CLASS:PUBLIC
END:VEVENT
END:VCALENDAR
