BEGIN:VCALENDAR
PRODID:-//AT Content Types//AT Event//EN
VERSION:1.0
BEGIN:VEVENT
DTSTART:20171013T070000Z
DTEND:20171017T160000Z
DCREATED:20170906T155400Z
UID:ATEvent-444f0061a87a4efaadac86392ef2bea2
SEQUENCE:0
LAST-MODIFIED:20171009T141109Z
SUMMARY:Consejo Regional de la Región San Miguel Garicoits
LOCATION:Betharram
PRIORITY:3
TRANSP:0
END:VEVENT
END:VCALENDAR
