BEGIN:VCALENDAR
PRODID:-//AT Content Types//AT Event//EN
VERSION:1.0
BEGIN:VEVENT
DTSTART:20171127T080000Z
DTEND:20171201T140000Z
DCREATED:20171116T085445Z
UID:ATEvent-62751ce1ecee44dc89b1dd238a1a5522
SEQUENCE:0
LAST-MODIFIED:20171116T100325Z
SUMMARY:Consejo Regional de la Region S. Maria de Jesú Crucificado
LOCATION:Bangalore
PRIORITY:3
TRANSP:0
END:VEVENT
END:VCALENDAR
