BEGIN:VCALENDAR
PRODID:-//AT Content Types//AT Event//EN
VERSION:1.0
BEGIN:VEVENT
DTSTART:20171213T080000Z
DTEND:20171215T160000Z
DCREATED:20171114T101006Z
UID:ATEvent-e95c4fde73a04424a5fc177129b606f7
SEQUENCE:0
LAST-MODIFIED:20171114T101253Z
SUMMARY:Consejo Regional de la Region P. Augusto Etchecopar
LOCATION:Passa Quatro (Brasil)
PRIORITY:3
TRANSP:0
END:VEVENT
END:VCALENDAR
