BEGIN:VCALENDAR
PRODID:-//AT Content Types//AT Event//EN
VERSION:1.0
BEGIN:VEVENT
DTSTART:20191126T080000Z
DTEND:20191128T170000Z
DCREATED:20190813T090417Z
UID:ATEvent-f68070ca8539401c81020829c7ab4776
SEQUENCE:0
LAST-MODIFIED:20190813T090602Z
SUMMARY:Consejo Regional de la Región P. Augusto Etchecopar
LOCATION:Paso de los Toros (Uruguay)
PRIORITY:3
TRANSP:0
END:VEVENT
END:VCALENDAR
